BEGIN:VCALENDAR
VERSION:2.0
PRODID:-//Haras Sagrada Família - ECPv6.15.20//NONSGML v1.0//EN
CALSCALE:GREGORIAN
METHOD:PUBLISH
X-WR-CALNAME:Haras Sagrada Família
X-ORIGINAL-URL:https://www.harassf.com.br
X-WR-CALDESC:Eventos para Haras Sagrada Família
REFRESH-INTERVAL;VALUE=DURATION:PT1H
X-Robots-Tag:noindex
X-PUBLISHED-TTL:PT1H
BEGIN:VTIMEZONE
TZID:America/Sao_Paulo
BEGIN:STANDARD
TZOFFSETFROM:-0200
TZOFFSETTO:-0300
TZNAME:-03
DTSTART:20160221T020000
END:STANDARD
BEGIN:DAYLIGHT
TZOFFSETFROM:-0300
TZOFFSETTO:-0200
TZNAME:-02
DTSTART:20161016T030000
END:DAYLIGHT
BEGIN:STANDARD
TZOFFSETFROM:-0200
TZOFFSETTO:-0300
TZNAME:-03
DTSTART:20170219T020000
END:STANDARD
BEGIN:DAYLIGHT
TZOFFSETFROM:-0300
TZOFFSETTO:-0200
TZNAME:-02
DTSTART:20171015T030000
END:DAYLIGHT
BEGIN:STANDARD
TZOFFSETFROM:-0200
TZOFFSETTO:-0300
TZNAME:-03
DTSTART:20180218T020000
END:STANDARD
BEGIN:DAYLIGHT
TZOFFSETFROM:-0300
TZOFFSETTO:-0200
TZNAME:-02
DTSTART:20181104T030000
END:DAYLIGHT
END:VTIMEZONE
BEGIN:VEVENT
DTSTART;VALUE=DATE:20170216
DTEND;VALUE=DATE:20170220
DTSTAMP:20260424T031108
CREATED:20170302T134721Z
LAST-MODIFIED:20170302T144733Z
UID:484-1487203200-1487548799@www.harassf.com.br
SUMMARY:Prova do Aurélio
DESCRIPTION:
URL:https://www.harassf.com.br/agenda/prova-do-aurelio/
LOCATION:Uberaba\, MG
CATEGORIES:Prova
END:VEVENT
BEGIN:VEVENT
DTSTART;VALUE=DATE:20170211
DTEND;VALUE=DATE:20170213
DTSTAMP:20260424T031108
CREATED:20170302T134623Z
LAST-MODIFIED:20170302T134623Z
UID:481-1486771200-1486943999@www.harassf.com.br
SUMMARY:Campeonato Barretos
DESCRIPTION:
URL:https://www.harassf.com.br/agenda/campeonato-barretos/
LOCATION:Barretos\, SP
END:VEVENT
BEGIN:VEVENT
DTSTART;VALUE=DATE:20170211
DTEND;VALUE=DATE:20170212
DTSTAMP:20260424T031108
CREATED:20170302T134518Z
LAST-MODIFIED:20170302T134518Z
UID:479-1486771200-1486857599@www.harassf.com.br
SUMMARY:Campeonato ACC - 1ª Etapa
DESCRIPTION:
URL:https://www.harassf.com.br/agenda/campeonato-acc-1a-etapa/
END:VEVENT
BEGIN:VEVENT
DTSTART;VALUE=DATE:20170204
DTEND;VALUE=DATE:20170206
DTSTAMP:20260424T031108
CREATED:20170302T134415Z
LAST-MODIFIED:20170302T134415Z
UID:476-1486166400-1486339199@www.harassf.com.br
SUMMARY:Copa Barretos
DESCRIPTION:
URL:https://www.harassf.com.br/agenda/copa-barretos/
LOCATION:Barretos\, SP
END:VEVENT
BEGIN:VEVENT
DTSTART;VALUE=DATE:20170204
DTEND;VALUE=DATE:20170205
DTSTAMP:20260424T031108
CREATED:20170302T134323Z
LAST-MODIFIED:20170302T134323Z
UID:473-1486166400-1486252799@www.harassf.com.br
SUMMARY:Liga Leste Paulista
DESCRIPTION:
URL:https://www.harassf.com.br/agenda/liga-leste-paulista/
LOCATION:Tapiratiba\, SP
END:VEVENT
BEGIN:VEVENT
DTSTART;VALUE=DATE:20170128
DTEND;VALUE=DATE:20170129
DTSTAMP:20260424T031108
CREATED:20170104T122312Z
LAST-MODIFIED:20170104T134706Z
UID:202-1485561600-1485647999@www.harassf.com.br
SUMMARY:Mega Horse
DESCRIPTION:
URL:https://www.harassf.com.br/agenda/mega-horse/
END:VEVENT
BEGIN:VEVENT
DTSTART;TZID=America/Sao_Paulo:20170121T110000
DTEND;TZID=America/Sao_Paulo:20170121T220000
DTSTAMP:20260424T031108
CREATED:20170103T181505Z
LAST-MODIFIED:20170112T121227Z
UID:180-1484996400-1485036000@www.harassf.com.br
SUMMARY:Cavalgada - Encontro de Comitivas
DESCRIPTION:Programação:\n\n11:00h encontro e concentração com almoço no local\n13:00h apresentação de provas equestres Ranch Sorting e Team Penning\n16:00h saída da cavalgada\n19:00h chegada da cavalgada\n20:00h jantar com muita música
URL:https://www.harassf.com.br/agenda/cavalgada-encontro-de-comitivas/
LOCATION:Haras Sagrada Família\, Rodovia Neuza Rezende Km 17 à direita - Distrito de Cruzeiro dos Peixotos\, Uberlândia\, MG\, Brasil
CATEGORIES:Cavalgada,Eventos HSF
ATTACH;FMTTYPE=image/jpeg:https://www.harassf.com.br/wp-content/uploads/2017/01/Cavalgada01.jpg
END:VEVENT
BEGIN:VEVENT
DTSTART;VALUE=DATE:20170121
DTEND;VALUE=DATE:20170123
DTSTAMP:20260424T031108
CREATED:20170104T163214Z
LAST-MODIFIED:20170104T163214Z
UID:214-1484956800-1485129599@www.harassf.com.br
SUMMARY:Circuito Monteclarense de Team Penning
DESCRIPTION:
URL:https://www.harassf.com.br/agenda/circuito-monteclarense-de-team-penning/
LOCATION:Jamba\, Montes Claros\, MG\, Brasil
CATEGORIES:Circuito Monteclarense,Team Penning
END:VEVENT
BEGIN:VEVENT
DTSTART;VALUE=DATE:20170121
DTEND;VALUE=DATE:20170123
DTSTAMP:20260424T031108
CREATED:20170104T162848Z
LAST-MODIFIED:20170104T162848Z
UID:211-1484956800-1485129599@www.harassf.com.br
SUMMARY:Campeonato de Barretos
DESCRIPTION:
URL:https://www.harassf.com.br/agenda/campeonato-de-barretos/
LOCATION:Barretos\, SP\, Brasil
CATEGORIES:Campeonato de Barretos
END:VEVENT
END:VCALENDAR